BEGIN:VCALENDAR
VERSION:2.0
PRODID:-//Caddo Parish - ECPv6.15.20//NONSGML v1.0//EN
CALSCALE:GREGORIAN
METHOD:PUBLISH
X-ORIGINAL-URL:https://caddoparks.org
X-WR-CALDESC:Events for Caddo Parish
REFRESH-INTERVAL;VALUE=DURATION:PT1H
X-Robots-Tag:noindex
X-PUBLISHED-TTL:PT1H
BEGIN:VTIMEZONE
TZID:America/Chicago
BEGIN:DAYLIGHT
TZOFFSETFROM:-0600
TZOFFSETTO:-0500
TZNAME:CDT
DTSTART:20250309T080000
END:DAYLIGHT
BEGIN:STANDARD
TZOFFSETFROM:-0500
TZOFFSETTO:-0600
TZNAME:CST
DTSTART:20251102T070000
END:STANDARD
BEGIN:DAYLIGHT
TZOFFSETFROM:-0600
TZOFFSETTO:-0500
TZNAME:CDT
DTSTART:20260308T080000
END:DAYLIGHT
BEGIN:STANDARD
TZOFFSETFROM:-0500
TZOFFSETTO:-0600
TZNAME:CST
DTSTART:20261101T070000
END:STANDARD
BEGIN:DAYLIGHT
TZOFFSETFROM:-0600
TZOFFSETTO:-0500
TZNAME:CDT
DTSTART:20270314T080000
END:DAYLIGHT
BEGIN:STANDARD
TZOFFSETFROM:-0500
TZOFFSETTO:-0600
TZNAME:CST
DTSTART:20271107T070000
END:STANDARD
END:VTIMEZONE
BEGIN:VEVENT
DTSTART;TZID=America/Chicago:20260205T000000
DTEND;TZID=America/Chicago:20260317T233000
DTSTAMP:20260421T184125
CREATED:20260205T175628Z
LAST-MODIFIED:20260205T175628Z
UID:10006733-1770249600-1773790200@caddoparks.org
SUMMARY:Caddo Parish Head Start T-Ball Training League Registration
DESCRIPTION:Caddo Parish Head Start T-Ball Training League starts the week of March 30\, 2026\, / 6:00 p.m. (Game Schedule will be provided) League Registration: February 5 – March 17 Caddo Parish Parks and Recreation has partnered with Caddo Parish Head Start to offer a T-Ball Training League for children aged 3\, and 4-5 years old. This program will provide a Tee Ball experience that is grounded in fun\, fitness\, and fundamentals. Young players in this age bracket will build confidence as they practice hitting a ball off a Tee\, running bases\, catching\, and throwing. \n\n\n\nRegistration is required. Player entry fee $10.00 (online payment). To register and pay\, go to www.caddoparks.org.  \n\n\n\nTeam Registration Deadline: March 17\, 2026\, 9:00 am – 7:00 pm\, at Caddo Head Start Parenting Center\, 1730 Cox Street\, Shreveport\, LA\, with Jane Davis or at www.caddoparks.org.  Mandatory Parent/Coaches Meeting: March 24\, 2026\, 6:00 pm\, 4055 St. Vincent Ave.\, Shreveport\, LA 71108 \n\n\n\nFor additional information\, contact Jane Davis\, jdavis@caddocaa.org\, 318-213-7008\, or Mary Murphy at mmurphy@caddo.gov or (318) 220-6284.
URL:https://caddoparks.org/event/caddo-parish-head-start-t-ball-training-league-registration/
LOCATION:LA
CATEGORIES:Adults, Seniors, and Families,Athletic,Community,Crime Prevention Events,Health & Wellness,NRPA National Recreation and Parks Association,Recreation,Recreation/Cultural Art Programs,Salvation Army Boys and Girls Club,Sport Programs/Clinics
ATTACH;FMTTYPE=image/jpeg:https://caddoparks.org/wp-content/uploads/2024/12/343738759_1448556652549892_8707803965760337124_n.jpg
END:VEVENT
BEGIN:VEVENT
DTSTART;TZID=America/Chicago:20260212T000000
DTEND;TZID=America/Chicago:20260416T233000
DTSTAMP:20260421T184125
CREATED:20260217T184709Z
LAST-MODIFIED:20260416T152034Z
UID:10006732-1770854400-1776382200@caddoparks.org
SUMMARY:Caddo Parish T-Ball and Coach Pitch League Registration
DESCRIPTION:PROGRAM: Caddo Parish T-Ball and Coach Pitch League Registration\nDATE/TIME: Starts the week of June 1\, 2026\, / 6:00 (Game Schedule will be provided) \nCaddo Parish Parks and Recreation to offer a T-Ball (3-6) and Coach Pitch League (7-8). This program will provide a Tee Ball and Coach Pitch experience that is grounded in fun\, fitness\, and fundamentals. Young players in this age bracket will build confidence as they practice hitting a ball off a Tee\, hitting coach-pitched balls\, running the bases\, catching\, and throwing. \nRegistration is required. Online registration at www.caddoparks.org. Player entry fee $10.00.\nPlayers registration Deadline has been extended to  April 16\, 2026 (online).  \nCoaches Team Registration Deadline: March 27\, 2026\, 8:30 am – 7:00 pm\, at 2900 Hearne Ave\, Suite B\, Shreveport\, LA\,\nMandatory Coaches/Parenting Meeting: April 23\, 2026\, 6:00 pm\, location Caddo Parish Parks and Recreation\, 2900 Hearne Ave. Suite B\, Shreveport\, LA\nFor additional information\, contact Mary Murphy at mmurphy@caddo.gov or (318) 220-6284. 
URL:https://caddoparks.org/event/caddo-parish-t-ball-and-coach-pitch-league-registration/
LOCATION:LA
CATEGORIES:Athletic,Community,Recreation,Recreation/Cultural Art Programs,Sport Programs/Clinics
ATTACH;FMTTYPE=image/jpeg:https://caddoparks.org/wp-content/uploads/2024/12/2025-T-Ball-and-Coach-Pitch-Baseball-Leagues-Flyer-cropped-.jpg
END:VEVENT
BEGIN:VEVENT
DTSTART;TZID=America/Chicago:20260316T180000
DTEND;TZID=America/Chicago:20260317T200000
DTSTAMP:20260421T184125
CREATED:20260303T164800Z
LAST-MODIFIED:20260303T164800Z
UID:10006763-1773684000-1773777600@caddoparks.org
SUMMARY:Caddo Boys and Girls Middle School Basketball City Championship
DESCRIPTION:Congratulations!!\n\n\n\nCaddo Parish Parks and Recreation will sponsor the 2026 Caddo Parish Middle School Boys’ and Girls’ Basketball City Championships.  The Caddo Parish Middle School Boys and Girls Basketball Championship matchup is set and features great teams. The ladies will settle things first\, playing tonight\, Monday\, March 16\, 2026\, at Southwood High School\, tipoff @ 6:00 p.m. Walnut Hill Lady Hornets will host Youree Drive Lady Spartans Middle School.\n\n\n\nThe boys will play on Tuesday\, March 17\, 2026\, at Southwood High School\, tipping off at 6:00 pm. The Youree Drive Spartans will host Turner Tigers. Please come out and support your local Middle School team.\n\n\n\nTickets must be purchased online at www.locallevelevents.com.\n\n\n\nFor additional event information\, contact the Caddo Schools Athletic Office at (318) 603-6358.
URL:https://caddoparks.org/event/caddo-boys-and-girls-middle-school-basketball-city-championship/
LOCATION:Southwood High School\, 9000 Walker Road\, Shreveport\, LA\, 71108\, United States
CATEGORIES:Adults, Seniors, and Families,Athletic,CADDO PARKS EVENTS CATEGORIES,Community,NRPA National Recreation and Parks Association,Recreation,Recreation/Cultural Art Programs,Sport Programs/Clinics
ATTACH;FMTTYPE=image/jpeg:https://caddoparks.org/wp-content/uploads/2024/12/OIP-1.jpeg
END:VEVENT
BEGIN:VEVENT
DTSTART;TZID=America/Chicago:20260320T080000
DTEND;TZID=America/Chicago:20261230T170000
DTSTAMP:20260421T184125
CREATED:20260320T212138Z
LAST-MODIFIED:20260320T212138Z
UID:10006767-1773993600-1798650000@caddoparks.org
SUMMARY:LSUS Weightlifting Program
DESCRIPTION:EVENT: Youth Weightlifting Program / USA Weightlifting\n \nDATE(S): Monday – Thursday and Saturdays \nTIME(S): 3:00 p.m. – 6:00 p.m. (Monday – Thursday) and 10:00 a.m. – 12:00 p.m. (Saturdays)\nWHERE: LSU-Shreveport USA Weightlifting Center for High Performance and Development (Health & Physical Education Building\, One University Place\, Shreveport) \n  \nINFORMATION: Caddo Parish Parks and Recreation is partnering with LSU-Shreveport’s nationally recognized youth weightlifting program\, offering weightlifting-specific skill training\, combined with strength and conditioning that is accessible and challenging for beginners to intermediate-level weightlifters. All workout sessions are conducted by certified USA Weightlifting instructors. This program is for youth (children) ages 8 – 18. Cost: $50.00 for an annual USA Wannual USA Weightlifting membership. Go to Membership and Recertification Fees (teamusa.org). \n  \nFor additional program information\, contact Dr. Kyle Pierce at (318) 344-1561 or Josh Redden at (318) 205-0901.
URL:https://caddoparks.org/event/lsus-weightlifting-program/
LOCATION:LSU-Shreveport USA Weightlifting Center for High Performance and Development\, Health & Physical Education Building\, One University Place\, Shreveport\, LA\, United States
CATEGORIES:Adults, Seniors, and Families,Athletic,Community,Health & Wellness,Recreation,Recreation/Cultural Art Programs,Sport Programs/Clinics
END:VEVENT
END:VCALENDAR