BEGIN:VCALENDAR
VERSION:2.0
PRODID:-//Caddo Parish - ECPv6.15.20//NONSGML v1.0//EN
CALSCALE:GREGORIAN
METHOD:PUBLISH
X-WR-CALNAME:Caddo Parish
X-ORIGINAL-URL:https://caddoparks.org
X-WR-CALDESC:Events for Caddo Parish
REFRESH-INTERVAL;VALUE=DURATION:PT1H
X-Robots-Tag:noindex
X-PUBLISHED-TTL:PT1H
BEGIN:VTIMEZONE
TZID:America/Chicago
BEGIN:DAYLIGHT
TZOFFSETFROM:-0600
TZOFFSETTO:-0500
TZNAME:CDT
DTSTART:20250309T080000
END:DAYLIGHT
BEGIN:STANDARD
TZOFFSETFROM:-0500
TZOFFSETTO:-0600
TZNAME:CST
DTSTART:20251102T070000
END:STANDARD
BEGIN:DAYLIGHT
TZOFFSETFROM:-0600
TZOFFSETTO:-0500
TZNAME:CDT
DTSTART:20260308T080000
END:DAYLIGHT
BEGIN:STANDARD
TZOFFSETFROM:-0500
TZOFFSETTO:-0600
TZNAME:CST
DTSTART:20261101T070000
END:STANDARD
BEGIN:DAYLIGHT
TZOFFSETFROM:-0600
TZOFFSETTO:-0500
TZNAME:CDT
DTSTART:20270314T080000
END:DAYLIGHT
BEGIN:STANDARD
TZOFFSETFROM:-0500
TZOFFSETTO:-0600
TZNAME:CST
DTSTART:20271107T070000
END:STANDARD
END:VTIMEZONE
BEGIN:VEVENT
DTSTART;TZID=America/Chicago:20260322T080000
DTEND;TZID=America/Chicago:20260322T170000
DTSTAMP:20260421T153007
CREATED:20260314T163650Z
LAST-MODIFIED:20260320T165826Z
UID:10006765-1774166400-1774198800@caddoparks.org
SUMMARY:Caddo Red River 3V3 BAYOU BATTLE Soccer Tournament (Cancelled)
DESCRIPTION:This event has been cancelled.\nCaddo Parish Parks and Recreation\, in conjunction with Shreveport Strikers are excited to present a dynamic 3V3 soccer tournament\, the Red River 3V3 Bayou Battle\, on March 22\, 2026\, at Lee Hedges Stadium. It is designed to bring more soccer opportunities to our community. This fast-paced\, high-energy format offers a super fun and engaging way for young players of all skill levels to get involved in the game. The event will be played on the AirPitch Format used by Arsenal\, Manchester City\, and many TOP clubs around the world.\nEnjoy a unique\, non-stop-play environment with more dribbles\, more passes\, more intensity & more FUN!\nRegistration Teams of 3-5: $250/Team\nIndividual Players: $50/Player\nBoys and Girls Division:\nU6 – U 12\, Middle School & High School\nRegistration Deadline: Tuesday\, March 18 @ 11:59PM (or until full)\nClick here to registers.\nhttps://airpitchusa.com/shreveportla-3v3soccertournament-bayou\n\nFor additional information contact Shreveport Strickers at 619-587-5116 or 945-267-0888\, AirPitchUSA.com or Mary Murphy at mmurphy@caddo.gov or 318-220-6284.\n\n 
URL:https://caddoparks.org/event/caddo-red-river-3v3-bayou-battle-soccer-tournament/
LOCATION:Lee Hedges Stadium\, 6115 E. Kings Hwy\, Shreveport\, LA\, 71105\, United States
CATEGORIES:Adults, Seniors, and Families,Athletic,Community
ATTACH;FMTTYPE=image/jpeg:https://caddoparks.org/wp-content/uploads/2026/03/Red-River-3v3-Bayou-Battle-presented-by-Graf-Flyer-Cancelled-Flyer-scaled.jpg
END:VEVENT
BEGIN:VEVENT
DTSTART;TZID=America/Chicago:20260314T090000
DTEND;TZID=America/Chicago:20260314T110000
DTSTAMP:20260421T153007
CREATED:20260218T214108Z
LAST-MODIFIED:20260218T214108Z
UID:10006760-1773478800-1773486000@caddoparks.org
SUMMARY:Caddo Red River AirPitch Spring Soccer Clinic
DESCRIPTION:Caddo Red River 3v3 Summer Soccer Clinic\n\nSaturday\, March 14\, 2026\, 9 am – 11 am – Single Day Event\nLee Hedges Stadium 6115 Roma Drive\, Shreveport\, LA 71105\nCaddo Parish Parks and Recreation in conjunction with Shreveport Strikers are excited to present a dynamic 3V3 soccer clinic\, the Red River 3V3 AIRPITCH SPRING Soccer Clinic\, on Saturday\, March 14\, 2026\, 9 am – 11 am\, at Lee Hedges Stadium\, it is designed to bring more soccer opportunities to our community.  This fast-paced\, high-energy format offers a super fun and engaging way for young players of all skill levels to get involved in the game with more dribbles\, more passes\, more intensity & more Fun!\nThis clinic is free\, but registration is required. Register at www.caddoparks.org.\nFor additional information contact Mary Murphy at mmurphy@caddo.gov or 318-220-6284.
URL:https://caddoparks.org/event/caddo-red-river-airpitch-spring-soccer-clinic/
LOCATION:Lee Hedges Stadium\, 6115 E. Kings Hwy\, Shreveport\, LA\, 71105\, United States
CATEGORIES:Athletic,CADDO SAFE SUMMER 2025,NRPA National Recreation and Parks Association,Recreation,Salvation Army Boys and Girls Club,Sport Programs/Clinics
ATTACH;FMTTYPE=image/jpeg:https://caddoparks.org/wp-content/uploads/2026/02/2026-0314-Red-River-3v3-004-Clinic-cropped-scaled.jpg
END:VEVENT
END:VCALENDAR